BEGIN:VCALENDAR
VERSION:2.0
PRODID:-//Christian Life Bible Church - ECPv6.15.18//NONSGML v1.0//EN
CALSCALE:GREGORIAN
METHOD:PUBLISH
X-WR-CALNAME:Christian Life Bible Church
X-ORIGINAL-URL:https://clbcfamily.org
X-WR-CALDESC:Events for Christian Life Bible Church
REFRESH-INTERVAL;VALUE=DURATION:PT1H
X-Robots-Tag:noindex
X-PUBLISHED-TTL:PT1H
BEGIN:VTIMEZONE
TZID:UTC
BEGIN:STANDARD
TZOFFSETFROM:+0000
TZOFFSETTO:+0000
TZNAME:UTC
DTSTART:20250101T000000
END:STANDARD
END:VTIMEZONE
BEGIN:VEVENT
DTSTART;TZID=UTC:20260308T100000
DTEND;TZID=UTC:20260308T120000
DTSTAMP:20260425T150306
CREATED:20260304T085649Z
LAST-MODIFIED:20260304T085649Z
UID:5244-1772964000-1772971200@clbcfamily.org
SUMMARY:Pastoral & Church Celebration
DESCRIPTION:JOIN US CELEBRATING OVER 40 YEARS OF GOD’S FAITHFULNESS \nYou’re Invited: A Weekend of Celebration and Fellowship \nWe are gathering to celebrate the heart of our church—our leadership and our incredible congregation. This is more than an event; it’s a time to recharge your spirit and connect with your church family. \nCome for the inspiring messages\, stay for the uplifting worship\, and leave with a heart full of gratefulness and fellowship. We can’t wait to see you there! \n\nThursday\, March 5th | 7 PM\nSunday\, March 8th | 10 AM
URL:https://clbcfamily.org/event/pastoral-church-celebration-2/
CATEGORIES:Service
ATTACH;FMTTYPE=image/jpeg:https://clbcfamily.org/wp-content/uploads/2026/03/7B590275-704B-40B2-9E88-1E6D5B0B9894.jpeg
END:VEVENT
BEGIN:VEVENT
DTSTART;TZID=UTC:20260305T190000
DTEND;TZID=UTC:20260305T203000
DTSTAMP:20260425T150306
CREATED:20260224T223956Z
LAST-MODIFIED:20260304T085438Z
UID:5227-1772737200-1772742600@clbcfamily.org
SUMMARY:Pastoral & Church Celebration
DESCRIPTION:JOIN US CELEBRATING OVER 40 YEARS OF GOD’S FAITHFULNESS \nYou’re Invited: A Weekend of Celebration and Fellowship \nWe are gathering to celebrate the heart of our church—our leadership and our incredible congregation. This is more than an event; it’s a time to recharge your spirit and connect with your church family. \nCome for the inspiring messages\, stay for the uplifting worship\, and leave with a heart full of gratefulness and fellowship. We can’t wait to see you there! \n\nThursday\, March 5th | 7 PM\nSunday\, March 8th | 10 AM
URL:https://clbcfamily.org/event/pastoral-church-celebration/
LOCATION:Christian Life Bible Church\, 16 Westbank Expressway\, Gretna\, LA\, 70053\, United States
CATEGORIES:Service
ATTACH;FMTTYPE=image/png:https://clbcfamily.org/wp-content/uploads/2026/02/Screen-Shot-2026-02-24-at-4.27.47-PM.png
ORGANIZER;CN="Christian Life Bible Church":MAILTO:clbcfamily@gmail.com
END:VEVENT
BEGIN:VEVENT
DTSTART;TZID=UTC:20260220T180000
DTEND;TZID=UTC:20260220T200000
DTSTAMP:20260425T150306
CREATED:20260206T060417Z
LAST-MODIFIED:20260206T060417Z
UID:5221-1771610400-1771617600@clbcfamily.org
SUMMARY:Vision Night
DESCRIPTION:Write It. See It. Pray It. \nJoin us for a Spirit-led evening of reflection\, creativity\, and prayer as we come together to seek God’s direction for the year ahead. \nThis is a space to create and document your vision in whatever way works best for you — vision boards\, journals\, calendars\, prayer boards\, jars\, planners\, or written goals. There is no one way — just come ready to listen\, reflect\, and align your plans with God’s purpose. \nWhat to Expect: \n• Guided reflection and prayer \n• Creative time to build your vision \n• Worship atmosphere \n• Prayer stations available \n• A moment to seal and pray over your vision \nWhat to Bring: \n• Vision board supplies\, journals\, planners\, calendars\, or prayer jars \n• An open heart and expectancy \n Date: 2/20/26 \n Time: 6:00pm \n Location: 16 Westbank Expressway \n “Write the vision and make it plain.” — Habakkuk 2:2
URL:https://clbcfamily.org/event/vision-night/
ATTACH;FMTTYPE=image/png:https://clbcfamily.org/wp-content/uploads/2026/02/image0.png
END:VEVENT
BEGIN:VEVENT
DTSTART;TZID=UTC:20260125T100000
DTEND;TZID=UTC:20260126T120000
DTSTAMP:20260425T150306
CREATED:20240704T020535Z
LAST-MODIFIED:20260120T161111Z
UID:4936-1769335200-1769428800@clbcfamily.org
SUMMARY:Special Guest: Prophet Larry Brown
DESCRIPTION:Prophet Brown attended Rhema Bible College in Tulsa\, Oklahoma.  God uses him in a special way to reveal the truths in the Word.  His personal testimonies are so encouraging. As he humbly stands in the office of a prophet\, he travels the world expecting God to demonstrate His love\, power and compassion.
URL:https://clbcfamily.org/event/special-guest-prophet-larry-brown/
LOCATION:Christian Life Bible Church\, 16 Westbank Expressway\, Gretna\, LA\, 70053\, United States
CATEGORIES:Service
ATTACH;FMTTYPE=image/jpeg:https://clbcfamily.org/wp-content/uploads/2026/01/Prophet-Larry-Brown-Ministry-26.jpg
ORGANIZER;CN="Christian Life Bible Church":MAILTO:clbcfamily@gmail.com
END:VEVENT
END:VCALENDAR